BEGIN:VCALENDAR
VERSION:2.0
PRODID:-//InvisionCommunity Events 4.7.24//EN
METHOD:PUBLISH
CALSCALE:GREGORIAN
REFRESH-INTERVAL:PT15M
X-PUBLISHED-TTL:PT15M
X-WR-CALNAME:Allgemeine Luftfahrt Veranstaltungen
NAME:Allgemeine Luftfahrt Veranstaltungen
BEGIN:VTIMEZONE
TZID:Europe/London
TZURL:http://tzurl.org/zoneinfo/Europe/London
X-LIC-LOCATION:Europe/London
BEGIN:DAYLIGHT
TZOFFSETFROM:+0000
TZOFFSETTO:+0100
TZNAME:BST
DTSTART:20260329T020000Z
RRULE:FREQ=YEARLY;BYMONTH=3;BYDAY=-1SU
END:DAYLIGHT
BEGIN:STANDARD
TZOFFSETFROM:+0100
TZOFFSETTO:+0000
TZNAME:GMT
DTSTART:20261025T020000Z
RRULE:FREQ=YEARLY;BYMONTH=10;BYDAY=-1SU
END:STANDARD
END:VTIMEZONE
BEGIN:VTIMEZONE
TZID:Europe/London
TZURL:http://tzurl.org/zoneinfo/Europe/London
X-LIC-LOCATION:Europe/London
BEGIN:DAYLIGHT
TZOFFSETFROM:+0000
TZOFFSETTO:+0100
TZNAME:BST
DTSTART:20250330T020000Z
RRULE:FREQ=YEARLY;BYMONTH=3;BYDAY=-1SU
END:DAYLIGHT
BEGIN:STANDARD
TZOFFSETFROM:+0100
TZOFFSETTO:+0000
TZNAME:GMT
DTSTART:20251026T020000Z
RRULE:FREQ=YEARLY;BYMONTH=10;BYDAY=-1SU
END:STANDARD
END:VTIMEZONE
BEGIN:VTIMEZONE
TZID:Europe/London
TZURL:http://tzurl.org/zoneinfo/Europe/London
X-LIC-LOCATION:Europe/London
BEGIN:DAYLIGHT
TZOFFSETFROM:+0000
TZOFFSETTO:+0100
TZNAME:BST
DTSTART:20240331T020000Z
RRULE:FREQ=YEARLY;BYMONTH=3;BYDAY=-1SU
END:DAYLIGHT
BEGIN:STANDARD
TZOFFSETFROM:+0100
TZOFFSETTO:+0000
TZNAME:GMT
DTSTART:20241027T020000Z
RRULE:FREQ=YEARLY;BYMONTH=10;BYDAY=-1SU
END:STANDARD
END:VTIMEZONE
BEGIN:VTIMEZONE
TZID:Europe/London
TZURL:http://tzurl.org/zoneinfo/Europe/London
X-LIC-LOCATION:Europe/London
BEGIN:DAYLIGHT
TZOFFSETFROM:+0000
TZOFFSETTO:+0100
TZNAME:BST
DTSTART:20220327T020000Z
RRULE:FREQ=YEARLY;BYMONTH=3;BYDAY=-1SU
END:DAYLIGHT
BEGIN:STANDARD
TZOFFSETFROM:+0100
TZOFFSETTO:+0000
TZNAME:GMT
DTSTART:20221030T020000Z
RRULE:FREQ=YEARLY;BYMONTH=10;BYDAY=-1SU
END:STANDARD
END:VTIMEZONE
BEGIN:VTIMEZONE
TZID:Europe/London
TZURL:http://tzurl.org/zoneinfo/Europe/London
X-LIC-LOCATION:Europe/London
BEGIN:DAYLIGHT
TZOFFSETFROM:+0000
TZOFFSETTO:+0100
TZNAME:BST
DTSTART:20200329T020000Z
RRULE:FREQ=YEARLY;BYMONTH=3;BYDAY=-1SU
END:DAYLIGHT
BEGIN:STANDARD
TZOFFSETFROM:+0100
TZOFFSETTO:+0000
TZNAME:GMT
DTSTART:20201025T020000Z
RRULE:FREQ=YEARLY;BYMONTH=10;BYDAY=-1SU
END:STANDARD
END:VTIMEZONE
BEGIN:VTIMEZONE
TZID:Europe/London
TZURL:http://tzurl.org/zoneinfo/Europe/London
X-LIC-LOCATION:Europe/London
BEGIN:DAYLIGHT
TZOFFSETFROM:+0000
TZOFFSETTO:+0100
TZNAME:BST
DTSTART:20180325T020000Z
RRULE:FREQ=YEARLY;BYMONTH=3;BYDAY=-1SU
END:DAYLIGHT
BEGIN:STANDARD
TZOFFSETFROM:+0100
TZOFFSETTO:+0000
TZNAME:GMT
DTSTART:20181028T020000Z
RRULE:FREQ=YEARLY;BYMONTH=10;BYDAY=-1SU
END:STANDARD
END:VTIMEZONE
BEGIN:VEVENT
SUMMARY:AERO Friedrichshafen
DTSTAMP:20260422T065322Z
SEQUENCE:0
UID:133-1-df28ab700afcae9a3f48c8766fc82bd8@www.flightforum.ch
ORGANIZER;CN="KoS":noreply@flightforum.ch
DESCRIPTION:\n	ILS Messestand an der AERO in Friedrichshafen vom 22. - 2
	5. April in der Halle A6-515.\n\n
DTSTART:20260421T220000Z
DTEND:20260424T220000Z
END:VEVENT
BEGIN:VEVENT
SUMMARY:Brunch auf dem Flugplatz von Montbéliard (LFSM) mit Live-Bl
	ues/Jazz-Konzert
DTSTAMP:20250903T063914Z
SEQUENCE:0
UID:123-1-df28ab700afcae9a3f48c8766fc82bd8@www.flightforum.ch
ORGANIZER;CN="Wilko Wiedemann":noreply@flightforum.ch
DESCRIPTION:\n	Einladung zum Brunch auf dem Flugplatz von Montbéliard (
	LFSM) mit Live-Blues/Jazz-Konzert\n\n\n\n	Sonntag 14.09.2025\n\n\n\n	 \n\
	n\n\n	 \n\n\n\n	Programm:\n\n\n\n	\n		\n			Anreise /Landung/Parken : Am S
	onntag 14.9.25 ab SR bis 10:30 LT oder am Vortag\n		\n	\n	\n		\n			Begrüs
	sung der FF-Gruppe durch den Flughafen-Direktor\n		\n	\n	\n		\n			Brunch /
	 Konzert bis 14:00\, wir erhalten als FF-Gruppe einen reservierten Bereich
	 nahe der Bühne.\n		\n	\n	\n		\n			Danach auf Wunsch: Attraktivitäten un
	d Visiten (auf Wunsch)\n		\n\n		\n			\n				\n					Besichtigung der Infrast
	ruktur / Hallen\n				\n			\n			\n				\n					Pax-Flug auf Alouette II\n				
	\n			\n			\n				\n					Besuch des Peugeot-Museums\n				\n			\n			\n				\n	
					Ein begleiteter Apéro am Abend in der Altstadt v. Montbéliard\n				\
	n			\n		\n	\n\n\n\n	\n\n	 \n\n\n\n	14/09/2025 - 11:00 à 14:00\n\n\n\n	Zu
	m Konzert:\n\n\n\n	Trio “The Juke Revue” aus Strassburg:\n\n\n\n	“Th
	e Juke Revue” bietet eine musikalische Reise durch Amerika in der ersten
	 Hälfte des 20. Jahrhunderts. Anhand der skurrilen Geschichte eines Konze
	rts im Süden der USA erweckt das Trio die Lieder und Musikstile dieser Ze
	it zum Leben: New Orleans Jazz\, Blues\, Folk\, Ragtime\, Swing … Mit ei
	ner Mischung aus Musik und Humor lädt die Juke Revue dazu ein\, für die
	 Dauer eines Konzerts die Epochen zu wechseln! Die Juke Revue besteht aus
	 Churchman am Klavier\, Dr. Costa am Schlagzeug und DB Boozeside am Bass.
	\n\n\n\n	Eine Kostprope: “Your Feet’s Too Big” https://youtu.be/_AS
	PS5Dk5dU von “The Juke Revue”\n\n\n\n	 \n\n\n\n	(das legendäre Stü
	ck hatten sogar die Beatles auf dem Programm: https://www.youtube.com/wa
	tch?v=uxUKpDZ01r4\n\n\n\n	 \n\n\n\n	ANMELDEN:  bitte per PN an meinen FF
	 User COSY (mit den unten erwähnten Angaben)\n\n	 \n\n\n\n	Der Event fin
	det direkt innerhalb des eingezäunten Flughafengeländes statt. Die Vera
	nstaltung ist öffentlich\, es werden somit Gäste aus der Region erwarte
	t\,welche terrestrisch anreisen.\n\n
DTSTART:20250914T090000Z
END:VEVENT
BEGIN:VEVENT
SUMMARY:Dittinger Flugtage 17./18. Aug. 2024
DTSTAMP:20240625T201859Z
SEQUENCE:0
UID:87-1-df28ab700afcae9a3f48c8766fc82bd8@www.flightforum.ch
ORGANIZER;CN="KoS":noreply@flightforum.ch
DESCRIPTION:\n	ILS Teilnahme mit Stand an den \"Dittinger Flugtage 2024\
	".\n\n
DTSTART;VALUE=DATE:20240818
END:VEVENT
BEGIN:VEVENT
SUMMARY:Dittinger Flugtage 17./18. Aug. 2024
DTSTAMP:20240625T200933Z
SEQUENCE:0
UID:85-1-df28ab700afcae9a3f48c8766fc82bd8@www.flightforum.ch
ORGANIZER;CN="KoS":noreply@flightforum.ch
DESCRIPTION:\n	ILS Teilnahme mit Stand an den \"Dittinger Flugtage 2024\
	".\n\n
DTSTART;VALUE=DATE:20240817
DTEND;VALUE=DATE:20240819
END:VEVENT
BEGIN:VEVENT
SUMMARY:Schnupperflugtage Segelfluggruppe Zürich
DTSTAMP:20220809T050413Z
SEQUENCE:0
UID:28-1-df28ab700afcae9a3f48c8766fc82bd8@www.flightforum.ch
ORGANIZER;CN="Flying Cöse":noreply@flightforum.ch
DESCRIPTION:\n	Lautlos am Himmel gleiten\, Naturkräfte nutzen\, die dri
	tte Dimension erleben. Am Wochenende vom 20./21. August 2022 (Reservedatum
	 27./28. August) führt die Segelfluggruppe Zürich auf dem Flugplatz Butt
	wil (AG) die Segelflugtage 2022 durch. Interessierte können zu günstigen
	 Konditionen in einem Segelflugzeug atemberaubende Momente erleben und die
	 Welt von oben sehen. Begleitet werden sie von einem erfahrenen Piloten od
	er einer Pilotin der Segelfluggruppe Zürich.\n\n\n\n	Was erwartet dich w
	ährend einem Schnupperflug\n\n\n\n	Einsteigen\, anschnallen und abheben! 
	Ohne Vorkenntnisse und Formalitäten tauchst du in die Welt der Segelflieg
	erei ein und du bist zum ersten Mal selber Pilot. Gemeinsam mit einem qual
	ifizierten Piloten erlebst du am Doppelsteuer die Faszination der dritten 
	Dimension und erhältst einen Einblick in die Ausbildung zum Segelflugpilo
	ten/in. Nach einer kleinen theoretischen Einführung startest du mit einem
	 unseren modernen Doppelsitzer in Buttwil. Der Start erfolgt im Schlepp hi
	nter einem unseren Schleppflugzeugen. Nach zirca 5 Minuten Schlepp klinkt 
	der Pilot das Schleppseil aus\, das lautlose Gleiten beginnt. Mit Thermik 
	und Wind gewinnt der Segelflieger an Höhe.\n\n\n\n	Während des Fluges ha
	st du die Möglichkeit das Steuer selbst zu übernehmen und das Segelflugz
	eug eigenhändig zu pilotieren. Nach den ersten Flugversuchen landet der b
	revetierte Pilot den Segelflieger wieder sicher in Buttwil.\n\n\n\n	Selber
	 Segelfliegen!\n\n\n\n	Der Segelflugbetrieb findet an diesen Tagen von 10.
	00 bis 18.00 Uhr auf dem Flugplatz Buttwil oberhalb Muri statt. Die zeitli
	che Einteilung erfolgt gemäss Anmeldung. Bei genügend Kapazität sind au
	ch spontane Segelflüge möglich. Es gibt für Schnupperpiloten eine kurze
	 Einführung zum Thema Segelflug\, die elementarsten Kenntnisse werden ver
	mittelt. Danach sollen die Interessierten selber segelfliegen! Segelfliege
	n ist bereits ab 14 Jahren möglich. Die Prüfung kann mit 16 Jahren abgel
	egt werden. Ein Schnupperflug bei der Segelfluggruppe Zürich kostet Fr. 9
	0.00 (Schüler\, Studenten und Lehrlinge Fr. 70.00).\n\n\n\n	Für besonder
	s Mutige und Adrenalin Junkies besteht auch die Möglichkeit für einen Ku
	nstflug. Mit unserem Kunstflugdoppelsitzer erlebst du ein atemberaubendes 
	Kunstflugprogramm mit Loopings\, Rollen\, Reversements und co. Die Kosten 
	für einen Kunstflug betragen Fr. 150.00\n\n\n\n	Festwirtschaft\n\n\n\n	W
	ährend den Schnupperflugtagen betreiben wir am Startplatz eine Festwirtsc
	haft. Schnupperpilotinnen und Schnupperpiloten offerieren wir eine Wurst u
	nd ein Getränk.\n\n\n\n	Auch Angehörige und Besucher sind herzlich einge
	laden in unserer Festwirtschaft zu verweilen und dem Flugbetrieb zuzuschau
	en. Vom Boden aus können die Kunstflugvorführungen und der Schleppbetrie
	b besonders gut beobachtet werden. Der Erlös von der Festwirtschaft kommt
	 unserer Vereinskasse zugute.\n\n\n\n	 \n\n\n\n	Wir freuen uns\, euch in 
	Buttwil begrüssen zu dürfen.\n\n\n\n	 \n\n\n\n	Zur Anmeldung: wwww.schn
	upperflugtage.ch\n\n
DTSTART:20220820T070000Z
DTEND:20220821T160000Z
END:VEVENT
BEGIN:VEVENT
SUMMARY:AERO Friedrichshafen
DTSTAMP:20220215T162139Z
SEQUENCE:0
UID:26-1-df28ab700afcae9a3f48c8766fc82bd8@www.flightforum.ch
ORGANIZER;CN="PilotHase":noreply@flightforum.ch
DESCRIPTION:\n	https://www.aero-expo.com\n\n
DTSTART;VALUE=DATE:20220427
DTEND;VALUE=DATE:20220501
END:VEVENT
BEGIN:VEVENT
SUMMARY:7. Internationales CESSNA Treffen
DTSTAMP:20191112T084920Z
SEQUENCE:0
UID:24-1-df28ab700afcae9a3f48c8766fc82bd8@www.flightforum.ch
ORGANIZER;CN="wku228":noreply@flightforum.ch
DESCRIPTION:\n\n	Liebe Piloten*\,\n\n\n\n\n	traditionell treffen sich am
	 zweiten Wochenende im Juli\, vom 10.-12.07.2020\, Piloten\, Freunde und f
	lugbegeisterte Zuschauer zum 7. Internationalen CESSNA Treffen am Flugplat
	z Jena-Schöngleina (EDBJ). Dort präsentieren sie die Vielfalt\, der übe
	r die Jahrzehnte entwickelten verschiedenen Modelle. Uns erreichten in den
	 vergangenen Jahren immer wieder Anfragen\, ob an unserem Internationalen 
	CESSNA Treffen auch Besatzungen mit anderen Flugzeugtypen\, außer CESSNAs
	\, teilnehmen „dürfen“. Natürlich ist das möglich und auch gewünsc
	ht. Wir freuen uns über das Interesse der „Friends“ auch wenn sie im 
	Moment nicht gerade mit einer CESSNA unterwegs sind\, was sich ja vielleic
	ht in der Zukunft ändern kann ?. Wir sind alle Piloten der Allgemeinen Lu
	ftfahrt\, die sich gerne andere Piloten treffen\, mit ihnen Erfahrungen au
	stauschen und das unabhängig vom Typ der gerade geflogen wird. Also wir s
	ehen uns. Weitere Informationen\, Anmeldung und Programm folgen in Kürze 
	unter www.edbj.de.\n\n\n\n\n	Viele Grüße aus dem schönen Thüringen\n\n
DTSTART:20200710T070000Z
DTEND:20200712T100000Z
END:VEVENT
BEGIN:VEVENT
SUMMARY:Hunterfest St. Stephan
DTSTAMP:20180702T134308Z
SEQUENCE:0
UID:9-1-df28ab700afcae9a3f48c8766fc82bd8@www.flightforum.ch
ORGANIZER;CN="werni":noreply@flightforum.ch
DESCRIPTION:\n	https://www.hunterverein.ch\n
DTSTART;VALUE=DATE:20180825
END:VEVENT
BEGIN:VEVENT
SUMMARY:Dittinger Flugtage
DTSTAMP:20180702T134200Z
SEQUENCE:0
UID:8-1-df28ab700afcae9a3f48c8766fc82bd8@www.flightforum.ch
ORGANIZER;CN="werni":noreply@flightforum.ch
DESCRIPTION:\n\n	https://flugtage.ch/2018/\n\n\n\n	 \n\n\n\n	mit Beteil
	igung durch ILS als Standbetreiber (bestätigt)\n\n
DTSTART;VALUE=DATE:20180825
DTEND;VALUE=DATE:20180827
END:VEVENT
END:VCALENDAR
