BEGIN:VCALENDAR
VERSION:2.0
PRODID:-//InvisionCommunity Events 4.7.24//EN
METHOD:PUBLISH
CALSCALE:GREGORIAN
REFRESH-INTERVAL:PT15M
X-PUBLISHED-TTL:PT15M
X-WR-CALNAME:Weitere im flightforum.ch publizierte Veranstaltungen
NAME:Weitere im flightforum.ch publizierte Veranstaltungen
BEGIN:VTIMEZONE
TZID:Europe/London
TZURL:http://tzurl.org/zoneinfo/Europe/London
X-LIC-LOCATION:Europe/London
BEGIN:DAYLIGHT
TZOFFSETFROM:+0000
TZOFFSETTO:+0100
TZNAME:BST
DTSTART:20190331T020000Z
RRULE:FREQ=YEARLY;BYMONTH=3;BYDAY=-1SU
END:DAYLIGHT
BEGIN:STANDARD
TZOFFSETFROM:+0100
TZOFFSETTO:+0000
TZNAME:GMT
DTSTART:20191027T020000Z
RRULE:FREQ=YEARLY;BYMONTH=10;BYDAY=-1SU
END:STANDARD
END:VTIMEZONE
BEGIN:VTIMEZONE
TZID:Europe/London
TZURL:http://tzurl.org/zoneinfo/Europe/London
X-LIC-LOCATION:Europe/London
BEGIN:DAYLIGHT
TZOFFSETFROM:+0000
TZOFFSETTO:+0100
TZNAME:BST
DTSTART:20180325T020000Z
RRULE:FREQ=YEARLY;BYMONTH=3;BYDAY=-1SU
END:DAYLIGHT
BEGIN:STANDARD
TZOFFSETFROM:+0100
TZOFFSETTO:+0000
TZNAME:GMT
DTSTART:20181028T020000Z
RRULE:FREQ=YEARLY;BYMONTH=10;BYDAY=-1SU
END:STANDARD
END:VTIMEZONE
BEGIN:VEVENT
SUMMARY:Grundlagen Fotokurs
DTSTAMP:20190513T204522Z
SEQUENCE:0
UID:21-3-df28ab700afcae9a3f48c8766fc82bd8@www.flightforum.ch
ORGANIZER;CN="werni":noreply@flightforum.ch
DESCRIPTION:\n\n	Weitere Infos und Ameldung in diesem Thread:\n\n\n\n	Gr
	undlagen Fotokurs\n\n
DTSTART:20190824T070000Z
DTEND:20190824T130000Z
END:VEVENT
BEGIN:VEVENT
SUMMARY:Indoor-Modellfliegen an der Zürich Game Show
DTSTAMP:20180830T153041Z
SEQUENCE:0
UID:13-3-df28ab700afcae9a3f48c8766fc82bd8@www.flightforum.ch
ORGANIZER;CN="Airwolf22":noreply@flightforum.ch
DESCRIPTION:\n\n	Indoor-Modellfliegen an der Zürich Game Show\n\n\n\n\n
	\n	Fr-So 14.-16.9.18\n\n\n\n\n	http://www.zurichgameshow.ch/\n\n\n\n\n	\n
	 \n\n\n\n	Dringend gesucht:\n\n\n\n\n	·      Piloten für freies Fl
	iegen (Heli/Fläche/FPV)\n\n\n\n\n	·      Showpiloten (Kunstflug/3D/
	Specials)\n\n\n\n\n	·      Helfer\n\n\n\n\n	·      Modellflugv
	ereine die sich präsentieren möchten (Nachwuchsförderung)\n\n\n\n
	\n	·      Sponsoren/Partner\n\n\n\n\n	\n \n\n\n\n	Es gibt gratis Ei
	ntritte an die ZürichGameShow für Piloten/Helfer!\n\n\n\n\n	\n \n\n\n\n
		Bei Interesse meldet euch bitte möglichst schnell bei mir per Mail für 
	weitere Infos.\n\n\n\n\n	\n \n\n\n\n	-&gt\; modellflugschulung@gmail.com\
	n\n\n\n\n	\n \n\n\n\n	Wichtig: Anmeldeschluss ist schon diesen Mittwoch 5
	.9.18!!\n\n\n\n\n	\n \n\n\n\n	Ich freue mich auf Euch! ?\n\n\n\n\n	Bitte 
	sagt/schickt es all euren Modellflugfreunden weiter!\n\n\n\n\n	Hoffentlich
	 können wir an der Messe viele Besucher von unserem schönen Hobby begeis
	tern und ein paar schöne Flugtage miteinander verbringen ?\n\n
DTSTART:20180914T150000Z
DTEND:20180915T220000Z
END:VEVENT
BEGIN:VEVENT
SUMMARY:SkyWork Airlines
DTSTAMP:20180717T081504Z
SEQUENCE:0
UID:11-3-df28ab700afcae9a3f48c8766fc82bd8@www.flightforum.ch
ORGANIZER;CN="werni":noreply@flightforum.ch
DESCRIPTION:\n\n	SkyWork Airlines Informationen aus erster Hand\n\n\n\n	
	 \n\n\n\n	Weitere Info's und Anmeldung HIER\n\n
DTSTART;VALUE=DATE:20180823
END:VEVENT
BEGIN:VEVENT
SUMMARY:Colaflug nach Buttwil LSZU
DTSTAMP:20180610T093505Z
SEQUENCE:0
UID:5-3-df28ab700afcae9a3f48c8766fc82bd8@www.flightforum.ch
ORGANIZER;CN="werni":noreply@flightforum.ch
DESCRIPTION:\n\n	VERSCHOBEN\, war ursprünglich für Mittwoch\, 13.06.20
	18 geplant.\n
DTSTART:20180614T160000Z
DTEND:20180614T200000Z
END:VEVENT
BEGIN:VEVENT
SUMMARY:VATSIM Flug- und Grill-Stammtisch Speyer 2018
DTSTAMP:20180625T182116Z
SEQUENCE:0
UID:7-3-df28ab700afcae9a3f48c8766fc82bd8@www.flightforum.ch
ORGANIZER;CN="werni":noreply@flightforum.ch
DESCRIPTION:\n	VATSIM Flug- und Grill-Stammtisch Speyer 2018\n\n\n\n	Ver
	schiebedatum: Sonntag\, 15.07.2018\n\n\n\n	 \n\n\n\n	Weitere Info's hier:
	\n\n\n\n\n	 \n
DTSTART;VALUE=DATE:20180714
END:VEVENT
END:VCALENDAR
