BEGIN:VCALENDAR
VERSION:2.0
PRODID:-//InvisionCommunity Events 4.7.24//EN
METHOD:PUBLISH
CALSCALE:GREGORIAN
REFRESH-INTERVAL:PT15M
X-PUBLISHED-TTL:PT15M
X-WR-CALNAME:Durch ILS organisierte Veranstaltungen
NAME:Durch ILS organisierte Veranstaltungen
BEGIN:VTIMEZONE
TZID:Europe/London
TZURL:http://tzurl.org/zoneinfo/Europe/London
X-LIC-LOCATION:Europe/London
BEGIN:DAYLIGHT
TZOFFSETFROM:+0000
TZOFFSETTO:+0100
TZNAME:BST
DTSTART:20240331T020000Z
RRULE:FREQ=YEARLY;BYMONTH=3;BYDAY=-1SU
END:DAYLIGHT
BEGIN:STANDARD
TZOFFSETFROM:+0100
TZOFFSETTO:+0000
TZNAME:GMT
DTSTART:20241027T020000Z
RRULE:FREQ=YEARLY;BYMONTH=10;BYDAY=-1SU
END:STANDARD
END:VTIMEZONE
BEGIN:VEVENT
SUMMARY:ILS Weihnachtsessen im Gewölbekeller des Restaurant Hecht
DTSTAMP:20241027T215636Z
SEQUENCE:0
UID:106-2-df28ab700afcae9a3f48c8766fc82bd8@www.flightforum.ch
ORGANIZER;CN="KoS":noreply@flightforum.ch
DESCRIPTION:\n	Wie bereits angekündigt\, findet am 23. November 2024 un
	ser jährliches ILS Weihnachtsessen statt. Wir freuen uns\, auf eine gross
	e Beteiligung.\n\n\n\n	Details und Anmeldung siehe Einladung im Forum.\n\n
	\n\n	 \n\n\n\n	ILS Weihnachtsessen 2024\n\n
DTSTART:20241123T173000Z
DTEND:20241123T223000Z
END:VEVENT
END:VCALENDAR
