BEGIN:VCALENDAR
VERSION:2.0
PRODID:-//InvisionCommunity Events 4.7.24//EN
METHOD:PUBLISH
CALSCALE:GREGORIAN
REFRESH-INTERVAL:PT15M
X-PUBLISHED-TTL:PT15M
X-WR-CALNAME:Durch ILS organisierte Veranstaltungen
NAME:Durch ILS organisierte Veranstaltungen
BEGIN:VTIMEZONE
TZID:Europe/London
TZURL:http://tzurl.org/zoneinfo/Europe/London
X-LIC-LOCATION:Europe/London
BEGIN:DAYLIGHT
TZOFFSETFROM:+0000
TZOFFSETTO:+0100
TZNAME:BST
DTSTART:20240331T020000Z
RRULE:FREQ=YEARLY;BYMONTH=3;BYDAY=-1SU
END:DAYLIGHT
BEGIN:STANDARD
TZOFFSETFROM:+0100
TZOFFSETTO:+0000
TZNAME:GMT
DTSTART:20241027T020000Z
RRULE:FREQ=YEARLY;BYMONTH=10;BYDAY=-1SU
END:STANDARD
END:VTIMEZONE
BEGIN:VEVENT
SUMMARY:FS-Weekend 9./10. Nov. 2024 - Hergiswil
DTSTAMP:20241104T192955Z
SEQUENCE:0
UID:108-2-df28ab700afcae9a3f48c8766fc82bd8@www.flightforum.ch
ORGANIZER;CN="KoS":noreply@flightforum.ch
DESCRIPTION:\n	In Planung stehendes FS-Weekend 2024 im Seehotel Pilatus 
	in Hergiswil.\n\n\n\n	 \n\n\n\n	Details zum Event und die Tagesprogramme 
	des Wochenendes sind unter folgendem Link im Forum abgelegt:\n\n\n\n	 \n\
	n\n\n	https://www.flightforum.ch/board/flightsim-weekend/program-exhibitor
	s/\n\n\n\n	 \n\n\n\n	Beste Grüsse vom ILS-OK\n\n\n\n	 \n\n\n\n	Simon &a
	mp\; Jörg\n\n
DTSTART:20241110T090000Z
DTEND:20241110T153000Z
END:VEVENT
END:VCALENDAR
