BEGIN:VCALENDAR
VERSION:2.0
PRODID:-//InvisionCommunity Events 4.7.24//EN
METHOD:PUBLISH
CALSCALE:GREGORIAN
REFRESH-INTERVAL:PT15M
X-PUBLISHED-TTL:PT15M
X-WR-CALNAME:Durch ILS organisierte Veranstaltungen
NAME:Durch ILS organisierte Veranstaltungen
BEGIN:VTIMEZONE
TZID:Europe/London
TZURL:http://tzurl.org/zoneinfo/Europe/London
X-LIC-LOCATION:Europe/London
BEGIN:DAYLIGHT
TZOFFSETFROM:+0000
TZOFFSETTO:+0100
TZNAME:BST
DTSTART:20240331T020000Z
RRULE:FREQ=YEARLY;BYMONTH=3;BYDAY=-1SU
END:DAYLIGHT
BEGIN:STANDARD
TZOFFSETFROM:+0100
TZOFFSETTO:+0000
TZNAME:GMT
DTSTART:20241027T020000Z
RRULE:FREQ=YEARLY;BYMONTH=10;BYDAY=-1SU
END:STANDARD
END:VTIMEZONE
BEGIN:VEVENT
SUMMARY:ILS Stammtisch im Restaurant Hecht
DTSTAMP:20241127T211528Z
SEQUENCE:0
UID:111-2-df28ab700afcae9a3f48c8766fc82bd8@www.flightforum.ch
ORGANIZER;CN="KoS":noreply@flightforum.ch
DESCRIPTION:\n	\n		Hallo zusammen\n	\n\n	\n		 \n	\n\n	\n		Der nächste
	 ILS-Stammtisch findet am Freitag den 27. Dezember 2024\, ab 1830 Uhr st
	att.\n	\n\n	\n		 \n	\n\n	\n		Der Stamm findet im Gasthof Hecht\, in Wink
	el ZH statt.\n	\n\n	\n		 \n	\n\n	\n		Der Stammtisch steht allen ILS-Mitgl
	iedern und Forumsusern offen.\n	\n\n	\n		Jeder ist uns gerne willkommen un
	d wir freuen uns immer über neue Gesichter.\n	\n\n	\n		 \n	\n\n	\n		Viel
	e Grüsse\n\n		\n\n		Wilko Wiedemann\n	\n\n\n\n	\n		\n			ILS Vorstand | Vi
	ze-Präsident ILS\n		\n\n		\n			wilko.wiedemann@flightforum.ch\n		\n	\n\n
DTSTART:20241227T173000Z
DTEND:20241227T210000Z
END:VEVENT
END:VCALENDAR
