BEGIN:VCALENDAR
VERSION:2.0
PRODID:-//InvisionCommunity Events 4.7.24//EN
METHOD:PUBLISH
CALSCALE:GREGORIAN
REFRESH-INTERVAL:PT15M
X-PUBLISHED-TTL:PT15M
X-WR-CALNAME:Durch ILS organisierte Veranstaltungen
NAME:Durch ILS organisierte Veranstaltungen
BEGIN:VTIMEZONE
TZID:Europe/London
TZURL:http://tzurl.org/zoneinfo/Europe/London
X-LIC-LOCATION:Europe/London
BEGIN:DAYLIGHT
TZOFFSETFROM:+0000
TZOFFSETTO:+0100
TZNAME:BST
DTSTART:20250330T020000Z
RRULE:FREQ=YEARLY;BYMONTH=3;BYDAY=-1SU
END:DAYLIGHT
BEGIN:STANDARD
TZOFFSETFROM:+0100
TZOFFSETTO:+0000
TZNAME:GMT
DTSTART:20251026T020000Z
RRULE:FREQ=YEARLY;BYMONTH=10;BYDAY=-1SU
END:STANDARD
END:VTIMEZONE
BEGIN:VEVENT
SUMMARY:ILS Sternflug 2025 - LSZP
DTSTAMP:20250329T203258Z
SEQUENCE:0
UID:115-2-df28ab700afcae9a3f48c8766fc82bd8@www.flightforum.ch
ORGANIZER;CN="KoS":noreply@flightforum.ch
DESCRIPTION:\n	ILS-Sternflug nach Biel-Kappelen (LSZP).\n\n\n\n	 \n\n\n
	\n	Anmeldung &amp\; Details im Forum unter:\n\n\n\n	Sternflug 2025 - ILS F
	lightforum\n\n\n\n	www.lszp.ch\n\n\n\n	 \n\n\n\n	Mit besten Fliegergrüss
	en vom OK\n\n\n\n	Simon &amp\; Wilko\n\n
DTSTART:20250831T080000Z
END:VEVENT
END:VCALENDAR
