BEGIN:VCALENDAR
VERSION:2.0
PRODID:-//InvisionCommunity Events 4.7.24//EN
METHOD:PUBLISH
CALSCALE:GREGORIAN
REFRESH-INTERVAL:PT15M
X-PUBLISHED-TTL:PT15M
X-WR-CALNAME:Durch ILS organisierte Veranstaltungen
NAME:Durch ILS organisierte Veranstaltungen
BEGIN:VTIMEZONE
TZID:Europe/London
TZURL:http://tzurl.org/zoneinfo/Europe/London
X-LIC-LOCATION:Europe/London
BEGIN:DAYLIGHT
TZOFFSETFROM:+0000
TZOFFSETTO:+0100
TZNAME:BST
DTSTART:20250330T020000Z
RRULE:FREQ=YEARLY;BYMONTH=3;BYDAY=-1SU
END:DAYLIGHT
BEGIN:STANDARD
TZOFFSETFROM:+0100
TZOFFSETTO:+0000
TZNAME:GMT
DTSTART:20251026T020000Z
RRULE:FREQ=YEARLY;BYMONTH=10;BYDAY=-1SU
END:STANDARD
END:VTIMEZONE
BEGIN:VEVENT
SUMMARY:ILS Stammtisch Region Mittelland Fr. 25.07.2025
DTSTAMP:20250626T215547Z
SEQUENCE:0
UID:120-2-df28ab700afcae9a3f48c8766fc82bd8@www.flightforum.ch
ORGANIZER;CN="KoS":noreply@flightforum.ch
DESCRIPTION:\n	ILS Stammtisch Region Mittelland am Fr. 25.07.2025 im PUB
	 Hermrigen\n\n\n\n	 \n\n\n\n	Details siehe Treffpunkt / ILS-Events im For
	um.\n\n\n\n	 \n\n\n\n	Anfahrt und Route: Google Maps \n\n
DTSTART:20250725T173000Z
END:VEVENT
END:VCALENDAR
