BEGIN:VCALENDAR
VERSION:2.0
PRODID:-//InvisionCommunity Events 4.7.24//EN
METHOD:PUBLISH
CALSCALE:GREGORIAN
REFRESH-INTERVAL:PT15M
X-PUBLISHED-TTL:PT15M
X-WR-CALNAME:Durch ILS organisierte Veranstaltungen
NAME:Durch ILS organisierte Veranstaltungen
BEGIN:VTIMEZONE
TZID:Europe/London
TZURL:http://tzurl.org/zoneinfo/Europe/London
X-LIC-LOCATION:Europe/London
BEGIN:DAYLIGHT
TZOFFSETFROM:+0000
TZOFFSETTO:+0100
TZNAME:BST
DTSTART:20200329T020000Z
RRULE:FREQ=YEARLY;BYMONTH=3;BYDAY=-1SU
END:DAYLIGHT
BEGIN:STANDARD
TZOFFSETFROM:+0100
TZOFFSETTO:+0000
TZNAME:GMT
DTSTART:20201025T020000Z
RRULE:FREQ=YEARLY;BYMONTH=10;BYDAY=-1SU
END:STANDARD
END:VTIMEZONE
BEGIN:VEVENT
SUMMARY:ILS Generalversammlung 2020
DTSTAMP:20191119T153610Z
SEQUENCE:0
UID:25-2-df28ab700afcae9a3f48c8766fc82bd8@www.flightforum.ch
ORGANIZER;CN="Wilko Wiedemann":noreply@flightforum.ch
DESCRIPTION:\n	ILS Generalversammlung 2020. Nur für ILS-Mitglieder\n
DTSTART:20200201T130000Z
END:VEVENT
END:VCALENDAR
