BEGIN:VCALENDAR
VERSION:2.0
PRODID:-//InvisionCommunity Events 4.7.24//EN
METHOD:PUBLISH
CALSCALE:GREGORIAN
REFRESH-INTERVAL:PT15M
X-PUBLISHED-TTL:PT15M
X-WR-CALNAME:Durch ILS organisierte Veranstaltungen
NAME:Durch ILS organisierte Veranstaltungen
BEGIN:VTIMEZONE
TZID:Europe/London
TZURL:http://tzurl.org/zoneinfo/Europe/London
X-LIC-LOCATION:Europe/London
BEGIN:DAYLIGHT
TZOFFSETFROM:+0000
TZOFFSETTO:+0100
TZNAME:BST
DTSTART:20180325T020000Z
RRULE:FREQ=YEARLY;BYMONTH=3;BYDAY=-1SU
END:DAYLIGHT
BEGIN:STANDARD
TZOFFSETFROM:+0100
TZOFFSETTO:+0000
TZNAME:GMT
DTSTART:20181028T020000Z
RRULE:FREQ=YEARLY;BYMONTH=10;BYDAY=-1SU
END:STANDARD
END:VTIMEZONE
BEGIN:VEVENT
SUMMARY:ILS Stamm
DTSTAMP:20180625T181821Z
SEQUENCE:0
UID:6-2-df28ab700afcae9a3f48c8766fc82bd8@www.flightforum.ch
ORGANIZER;CN="werni":noreply@flightforum.ch
DESCRIPTION:\n\n	ILS Stamm im Gasthof Hecht in Winkel ZH.\n\n\n\n	Weiter
	e Informationen hier:\n\n\n\n	https://www.flightforum.ch/board/topic/10008
	1-ils-stammtisch-1372018/\n\n
DTSTART:20180713T163000Z
END:VEVENT
END:VCALENDAR
